BEGIN:VCALENDAR
VERSION:2.0
PRODID:-//Tukios.com/
BEGIN:VEVENT
UID:e701658d-df44-4608-9006-e8c540dd23e3@www.comfortcremation.com
DTSTAMP:20260423T200253Z
DTSTART:20260501T180000Z
DTEND:20260501T200000Z
SUMMARY:Funeral Service
DESCRIPTION:
URL:https://www.comfortcremation.com/obituaries/eugene-randall
LOCATION:Wales Baptist Church 24 Main Street  Wales MA 01081
GEO:42.0684523;-72.2219161
END:VEVENT
END:VCALENDAR